BEGIN:VCALENDAR
VERSION:2.0
PRODID:-//Pranic Healing with Natalie - ECPv6.4.0.1//NONSGML v1.0//EN
CALSCALE:GREGORIAN
METHOD:PUBLISH
X-ORIGINAL-URL:https://phwn.com.au
X-WR-CALDESC:Events for Pranic Healing with Natalie
REFRESH-INTERVAL;VALUE=DURATION:PT1H
X-Robots-Tag:noindex
X-PUBLISHED-TTL:PT1H
BEGIN:VTIMEZONE
TZID:Australia/Melbourne
BEGIN:STANDARD
TZOFFSETFROM:+1100
TZOFFSETTO:+1000
TZNAME:AEST
DTSTART:20250405T160000
END:STANDARD
BEGIN:DAYLIGHT
TZOFFSETFROM:+1000
TZOFFSETTO:+1100
TZNAME:AEDT
DTSTART:20251004T160000
END:DAYLIGHT
END:VTIMEZONE
BEGIN:VEVENT
DTSTART;TZID=Australia/Melbourne:20250920T110000
DTEND;TZID=Australia/Melbourne:20250920T150000
DTSTAMP:20260420T191406
CREATED:20250801T083318Z
LAST-MODIFIED:20250801T083318Z
UID:10000979-1758366000-1758380400@phwn.com.au
SUMMARY:Health & Wellbeing Day: Free Pranic Healing Treatments
DESCRIPTION:Join us for our Health & Wellbeing day and experience a free Pranic Healing treatment designed to reduce and remove aches and pains and increase relaxation and destress on Saturday 20th September from 11am – 3pm at Calma Spa and Skin Clinic. Pop in anytime to enjoy your complementary treatment. \nPranic Healing is a powerful energy healing treatment that is non-touch and works by cleansing and energising the body’s energy system\, promoting physical\, emotional\, and mental wellbeing. By using Pranic Healing it may speed up the natural recovery for you to heal faster and easier. This treatment is designed to promote relaxation\, reduce stress\, boost your energy levels\, and to help you unwind. Pranic Healing is the fastest growing energy healing system and is currently in over 120 countries. There are proven results for Pranic Healing and you can read the testimonial statements here to find out more. \nDon’t miss this unique opportunity to experience Pranic Healing which may improve your health and wellbeing. Register for this free event to secure your space.
URL:https://phwn.com.au/event/health-wellbeing-day-free-pranic-healing-treatments/
LOCATION:Calma Spa & Skin Clinic\, 1100 High Street Armadale\, Victoria\, VIC 3143\, Australia
CATEGORIES:Free Pranic Healing Event
END:VEVENT
BEGIN:VEVENT
DTSTART;TZID=Australia/Melbourne:20250816T100000
DTEND;TZID=Australia/Melbourne:20250817T170000
DTSTAMP:20260420T191406
CREATED:20250612T221705Z
LAST-MODIFIED:20250612T221816Z
UID:10000977-1755338400-1755450000@phwn.com.au
SUMMARY:Learn Pranic Healing Course
DESCRIPTION:Learn Pranic Healing Course\nOver this two day course\, learn how to heal yourself\, loved ones\, friends\, family and clients. You will learn a variety of new techniques including that help: \n\nRemove or reduce aches and pains\nReduce stress and anxiety\nIncrease happiness\nBoost energy levels\nIncrease focus\nImprove sleep\n\nYou will learn a variety of tools and techniques including: \n\nHow to increase the rate of healing and recovery from physical\, mental and emotional ailments\nLearn to scan\, sense\, see and understand the energy body ( also known as the bioplasmic body)\, the anatomy\, aura and the 11 major energy centres called chakras\nIncreasing one’e own energy levels\, including energising and calming yogic breathing techniques\nIncrease healing powers by using the twin hearts meditation\nSweeping\, which is cleansing dirty energy out of both the aura and chakras\nEnergising with prana by using the hand chakra technique\nStabilising the energy\, so it remains where the energy is needed\nReleasing the projected energy\, so that the client and the healer are disconnected at the end of the healing session\nAncient Law of Karma\nHealing safely with correct disposal of dirty energy\, avoiding energy contamination and avoiding common pitfalls\n\nThis course has proven results and is the fastest growing energy healing system\, currently in 120 countries.  \nAll course material\, CDs and books are available to purchase at the course. The book Miracles through Pranic Healing is required.
URL:https://phwn.com.au/event/learn-pranic-healing-course-2/
LOCATION:Multicultural Hub\, 506 Elizabeth St\, Melbourne\, Victoria\, VIC 3000\, Australia
CATEGORIES:Learn Pranic Healing
ATTACH;FMTTYPE=image/jpeg:https://phwn.com.au/wp-content/uploads/2025/03/PH-Course.jpg
END:VEVENT
BEGIN:VEVENT
DTSTART;TZID=Australia/Melbourne:20250729T190000
DTEND;TZID=Australia/Melbourne:20250729T200000
DTSTAMP:20260420T191406
CREATED:20250608T034331Z
LAST-MODIFIED:20250608T034331Z
UID:10000975-1753815600-1753819200@phwn.com.au
SUMMARY:Relationship Healing - Discovery Session
DESCRIPTION:Join our complementary Relationship Healing Discovery Session\, to learn more about the revolutionary breakthrough in energy healing\, Pranic Healing and how energy impacts your relationships. Pranic Healing is the fastest growing energy healing system in the world\, currently in over 120 countries\, with testimonies of proven success time and time again. This session is for you\, if you want to explore: \n\nDo you want to improve relationships?\nLearn about how relationships are impacted on the physical\, etheric\, emotional\, mental and spiritual level.\nJoin our Meditation on Twin Hearts guided to enhance and improve any type of relationships.\n\nPranic Healing may assist you in improving and enhancing your relationships. Relationships with your partner\, your children\, friends\, family\, work colleagues\, customers\, anyone. \nA complementary Relationship Pranic Healing treatments will be provided for all. \n 
URL:https://phwn.com.au/event/relationship-healing-discovery-session-2/
LOCATION:Calma Spa & Skin Clinic\, 1100 High Street Armadale\, Victoria\, VIC 3143\, Australia
CATEGORIES:Discovery Session,Free Discovery Session,Free Pranic Healing Event
ATTACH;FMTTYPE=image/jpeg:https://phwn.com.au/wp-content/uploads/2025/05/Relationship.jpg
END:VEVENT
BEGIN:VEVENT
DTSTART;TZID=Australia/Melbourne:20250726T103000
DTEND;TZID=Australia/Melbourne:20250726T153000
DTSTAMP:20260420T191406
CREATED:20250608T034752Z
LAST-MODIFIED:20250608T034752Z
UID:10000976-1753525800-1753543800@phwn.com.au
SUMMARY:Self Care Day: Free Pranic Healing Treatments
DESCRIPTION:Join us for our Self-Care day and experience a free Pranic Healing treatment designed to reduce and remove aches and pains and increase relaxation and destress on 26th July from 10.30am – 3.30pm at Calma Spa and Skin Clinic. Pop in anytime to enjoy your complementary treatment. \nPranic Healing is a powerful energy healing treatment that is non-touch and works by cleansing and energising the body’s energy system\, promoting physical\, emotional\, and mental wellbeing. By using Pranic Healing it may speed up the natural recovery for you to heal faster and easier. This treatment is designed to promote relaxation\, reduce stress\, boost your energy levels\, and to help you unwind. Pranic Healing is the fastest growing energy healing system and is currently in over 120 countries. There are proven results for Pranic Healing and you can read the testimonial statements here to find out more. \nDon’t miss this unique opportunity to experience Pranic Healing which may improve your health and wellbeing. Register for this free event to secure your space.
URL:https://phwn.com.au/event/self-care-day-free-pranic-healing-treatments-3/
LOCATION:Calma Spa & Skin Clinic\, 1100 High Street Armadale\, Victoria\, VIC 3143\, Australia
CATEGORIES:Free Pranic Healing Event
END:VEVENT
BEGIN:VEVENT
DTSTART;TZID=Australia/Melbourne:20250621T103000
DTEND;TZID=Australia/Melbourne:20250621T153000
DTSTAMP:20260420T191406
CREATED:20250523T033235Z
LAST-MODIFIED:20250523T041519Z
UID:10000973-1750501800-1750519800@phwn.com.au
SUMMARY:Wellbeing Day: Free Pranic Healing Treatments
DESCRIPTION:Join us for our Wellbeing day and experience a free Pranic Healing treatment designed to reduce and remove aches and pains and increase relaxation and destress on 21st June from 10.30am – 3.30pm at Calma Spa and Skin Clinic. Pop in anytime to enjoy your complementary treatment. \nPranic Healing is a powerful energy healing treatment that is non-touch and works by cleansing and energising the body’s energy system\, promoting physical\, emotional\, and mental wellbeing. By using Pranic Healing it may speed up the natural recovery for you to heal faster and easier. This treatment is designed to promote relaxation\, reduce stress\, boost your energy levels\, and to help you unwind. Pranic Healing is the fastest growing energy healing system and is currently in over 120 countries. There are proven results for Pranic Healing and you can read the testimonial statements here to find out more. \nDon’t miss this unique opportunity to experience Pranic Healing which may improve your health and wellbeing. Register for this free event to secure your space.
URL:https://phwn.com.au/event/wellbeing-day-free-pranic-healing-treatments-3/
LOCATION:Calma Spa & Skin Clinic\, 1100 High Street Armadale\, Victoria\, VIC 3143\, Australia
CATEGORIES:Free Pranic Healing Event
END:VEVENT
BEGIN:VEVENT
DTSTART;TZID=Australia/Melbourne:20250607T100000
DTEND;TZID=Australia/Melbourne:20250608T170000
DTSTAMP:20260420T191406
CREATED:20250305T065244Z
LAST-MODIFIED:20250523T040244Z
UID:10000964-1749290400-1749402000@phwn.com.au
SUMMARY:Learn Pranic Healing Course
DESCRIPTION:Pranic Healing Course\nOver this two day course\, learn how to heal yourself\, loved ones\, friends\, family and clients. You will learn a variety of new techniques including that help: \n\nRemove or reduce aches and pains\nReduce stress and anxiety\nIncrease happiness\nBoost energy levels\nIncrease focus\nImprove sleep\n\nYou will learn a variety of tools and techniques including: \n\nHow to increase the rate of healing and recovery from physical\, mental and emotional ailments\nLearn to scan\, sense\, see and understand the energy body ( also known as the bioplasmic body)\, the anatomy\, aura and the 11 major energy centres called chakras\nIncreasing one’e own energy levels\, including energising and calming yogic breathing techniques\nIncrease healing powers by using the twin hearts meditation\nSweeping\, which is cleansing dirty energy out of both the aura and chakras\nEnergising with prana by using the hand chakra technique\nStabilising the energy\, so it remains where the energy is needed\nReleasing the projected energy\, so that the client and the healer are disconnected at the end of the healing session\nAncient Law of Karma\nHealing safely with correct disposal of dirty energy\, avoiding energy contamination and avoiding common pitfalls\n\nThis course has proven results and is the fastest growing energy healing system\, currently in 120 countries.  \nAll course material\, CDs and books are available to purchase at the course. The book Miracles through Pranic Healing is required.
URL:https://phwn.com.au/event/learn-pranic-healing-course-3/
LOCATION:Multicultural Hub\, 506 Elizabeth St\, Melbourne\, Victoria\, VIC 3000\, Australia
CATEGORIES:Learn Pranic Healing
ATTACH;FMTTYPE=image/jpeg:https://phwn.com.au/wp-content/uploads/2025/03/PH-Course.jpg
END:VEVENT
BEGIN:VEVENT
DTSTART;TZID=Australia/Melbourne:20250603T190000
DTEND;TZID=Australia/Melbourne:20250603T200000
DTSTAMP:20260420T191406
CREATED:20250523T035229Z
LAST-MODIFIED:20250523T040728Z
UID:10000974-1748977200-1748980800@phwn.com.au
SUMMARY:Relationship Healing - Discovery Session
DESCRIPTION:Join our complementary Relationship Healing Discovery Session\, to learn more about the revolutionary breakthrough in energy healing\, Pranic Healing and how energy impacts your relationships. Pranic Healing is the fastest growing energy healing system in the world\, currently in over 120 countries\, with testimonies of proven success time and time again. This session is for you\, if you want to explore: \n\nDo you want to improve relationships?\nLearn about how relationships are impacted on the physical\, etheric\, emotional\, mental and spiritual level.\nJoin our Meditation on Twin Hearts guided to enhance and improve any type of relationships.\n\nPranic Healing may assist you in improving and enhancing your relationships. Relationships with your partner\, your children\, friends\, family\, work colleagues\, customers\, anyone. \nA complementary Relationship Pranic Healing treatments will be provided for all. \n 
URL:https://phwn.com.au/event/relationship-healing-discovery-session/
LOCATION:Calma Spa & Skin Clinic\, 1100 High Street Armadale\, Victoria\, VIC 3143\, Australia
CATEGORIES:Discovery Session,Free Discovery Session,Free Pranic Healing Event
ATTACH;FMTTYPE=image/jpeg:https://phwn.com.au/wp-content/uploads/2025/05/Relationship.jpg
END:VEVENT
BEGIN:VEVENT
DTSTART;TZID=Australia/Melbourne:20250504T063000
DTEND;TZID=Australia/Melbourne:20250504T123000
DTSTAMP:20260420T191406
CREATED:20250421T011552Z
LAST-MODIFIED:20250421T011552Z
UID:10000971-1746340200-1746361800@phwn.com.au
SUMMARY:Free Pranic Healing Clinic - Camberwell Market
DESCRIPTION:You are invited to join us at our Free Pranic Healing Clinic on Sunday 4th May at Camberwell Market. You can experience the benefits of Pranic Healing\, a non-touch energy treatment. Benefits may include: \n\nReduction / Removal of aches and pains\nReduction of stress and anxiety\nIncreased Happiness\n\nBy using prana\, natures life-force and the transference of energy\, you can increase the body’s rate of healing. \nPop in any time throughout the market day\, between 6.30am – 12.30pm to enjoy a free Pranic Healing treatment. \nWe will also be selling body fragrances that use different frequencies of energy that may brighten and enhance your life\, including: \nLove\,  Lover\, Relax\, Prosperity\, Sweet Sleep\, Clairvoyance and Protection. \nFor any inquiries contact: info@phwn.com.au \nCamberwell Market \nMarket Pl\, Camberwell \n 
URL:https://phwn.com.au/event/free-pranic-healing-clinic-camberwell-market-2/
END:VEVENT
BEGIN:VEVENT
DTSTART;TZID=Australia/Melbourne:20250427T110000
DTEND;TZID=Australia/Melbourne:20250427T150000
DTSTAMP:20260420T191406
CREATED:20250421T011258Z
LAST-MODIFIED:20250421T011258Z
UID:10000972-1745751600-1745766000@phwn.com.au
SUMMARY:Self Care Day: Free Pranic Healing Treatments
DESCRIPTION:Join us for our Self-Care day and experience a free Pranic Healing treatment designed to reduce and remove aches and pains and increase relaxation and destress on 29th March from 11am – 3pm at Calma Spa and Skin Clinic. Pop in anytime to enjoy your complementary treatment. \nPranic Healing is a powerful energy healing treatment that is non-touch and works by cleansing and energising the body’s energy system\, promoting physical\, emotional\, and mental wellbeing. By using Pranic Healing it may speed up the natural recovery for you to heal faster and easier. This treatment is designed to promote relaxation\, reduce stress\, boost your energy levels\, and to help you unwind. Pranic Healing is the fastest growing energy healing system and is currently in over 120 countries. There are proven results for Pranic Healing and you can read the testimonial statements here to find out more. \nDon’t miss this unique opportunity to experience Pranic Healing which may improve your health and wellbeing. Register for this free event to secure your space.
URL:https://phwn.com.au/event/self-care-day-free-pranic-healing-treatments-2/
LOCATION:Calma Spa & Skin Clinic\, 1100 High Street Armadale\, Victoria\, VIC 3143\, Australia
END:VEVENT
BEGIN:VEVENT
DTSTART;TZID=Australia/Melbourne:20250422T190000
DTEND;TZID=Australia/Melbourne:20250422T200000
DTSTAMP:20260420T191406
CREATED:20250327T091206Z
LAST-MODIFIED:20250327T093745Z
UID:10000969-1745348400-1745352000@phwn.com.au
SUMMARY:Sound Bath Healing
DESCRIPTION:Sound Healing is a powerful and restorative healing therapy that uses vibrations and rhythms that may reduce discomfort in the body\, stress and anxiety and improve your overall health and wellbeing. \nAs a certified sound healer with a bachelor of music I will share with you a unique sound bath experience that will be unlike anything you have experienced before. I offer my own personal interpretation of music using my voice\, with crystal bowls to share with you an evening that will leave you relaxed and floating away in bliss. \nRelax in the beautiful surroundings of Calma Spa and take some time out to breath\, let go and heal.
URL:https://phwn.com.au/event/sound-bath-healing/
LOCATION:Calma Spa & Skin Clinic\, 1100 High Street Armadale\, Victoria\, VIC 3143\, Australia
END:VEVENT
END:VCALENDAR